BEGIN:VCALENDAR
VERSION:2.0
PRODID:-//eventon.com NONSGML v1.0//EN
CALSCALE:GREGORIAN
METHOD:PUBLISH
BEGIN:VEVENT
UID:69ebebdfed6dc
DTSTAMP:20260424T221703Z
DTSTART:20260925T070000Z
DTEND:20260925T140000Z
LOCATION:En ligne
SUMMARY:Le livre d’occasion (Lundi de la formation)
DESCRIPTION:Gérer et intégrer un assortiment d&rsquo;occasion dans sa lib
 rairie. Comment proposer une offre complémentaire. Comment améliorer sa m
 arge. Comment participer au développement durable. LA FICHE COMPLÈTE &nbs
 p;\nhttps://book-conseil.fr/agenda-formation/le-livre-doccasion-en-librairi
 e-traditionnelle/var/ri-3.l-L1
URL:https://book-conseil.fr/agenda-formation/le-livre-doccasion-en-librairie-traditionnelle/var/ri-3.l-L1
END:VEVENT
END:VCALENDAR