BEGIN:VCALENDAR
VERSION:2.0
PRODID:-//eventon.com NONSGML v1.0//EN
CALSCALE:GREGORIAN
METHOD:PUBLISH
BEGIN:VEVENT
UID:69e8a25459239
DTSTAMP:20260422T102628Z
DTSTART:20240917T070000Z
DTEND:20240917T100000Z
LOCATION:En ligne
SUMMARY:Les rayons BD\,  manga\,  comics
DESCRIPTION:Découvrir les rayons Bd\,  Manga &amp; Comics et identifier le
 s acteurs du marché. Analyser les différentes parts de marché. Identifie
 r les acteurs du marché. (diffuseurs\,  éditeurs). Découvrir les tendanc
 es actuelles\,  l’actualité éditoriale\,  les auteur.es phares. LA FICH
 E COMPLÈTE\nhttps://book-conseil.fr/agenda-formation/les-rayons-bd-manga-c
 omics/
URL:https://book-conseil.fr/agenda-formation/les-rayons-bd-manga-comics/
END:VEVENT
END:VCALENDAR