BEGIN:VCALENDAR
VERSION:2.0
PRODID:-//eventon.com NONSGML v1.0//EN
CALSCALE:GREGORIAN
METHOD:PUBLISH
BEGIN:VEVENT
UID:69e4ddec7e041
DTSTAMP:20260419T135140Z
DTSTART:20240201T080000Z
DTEND:20240201T153000Z
LOCATION:En ligne
SUMMARY:Les prévisions financières et le Business Plan
DESCRIPTION:Construire son projet économique en posant les bases de la ré
 ussite Rédiger son plan d’action du Business Plan Etablir un prévisionn
 el financier sur 3 ans Comprendre les éléments clés du Business Plan LA 
 FICHE COMPLÈTE\nhttps://book-conseil.fr/agenda-formation/les-previsions-fi
 nancieres-et-le-business-plan/
URL:https://book-conseil.fr/agenda-formation/les-previsions-financieres-et-le-business-plan/
END:VEVENT
END:VCALENDAR